BEGIN:VCALENDAR
VERSION:2.0
PRODID:-//RACMA | Royal Australasian College of Medical Administrators - ECPv4.9.13//NONSGML v1.0//EN
CALSCALE:GREGORIAN
METHOD:PUBLISH
X-WR-CALNAME:RACMA | Royal Australasian College of Medical Administrators
X-ORIGINAL-URL:https://racma.edu.au
X-WR-CALDESC:Events for RACMA | Royal Australasian College of Medical Administrators
BEGIN:VTIMEZONE
TZID:Australia/Melbourne
BEGIN:STANDARD
TZOFFSETFROM:+1100
TZOFFSETTO:+1000
TZNAME:AEST
DTSTART:20200404T160000
END:STANDARD
BEGIN:DAYLIGHT
TZOFFSETFROM:+1000
TZOFFSETTO:+1100
TZNAME:AEDT
DTSTART:20201003T160000
END:DAYLIGHT
END:VTIMEZONE
BEGIN:VEVENT
DTSTART;VALUE=DATE:20200227
DTEND;VALUE=DATE:20200301
DTSTAMP:20200226T111127
CREATED:20200221T043306Z
LAST-MODIFIED:20200221T043523Z
UID:2612-1582761600-1583020799@racma.edu.au
SUMMARY:Leadership for Clinicians Module 1
DESCRIPTION:
URL:https://racma.edu.au/training-calendar/leadership-for-clinicians-module-1/
LOCATION:Adelaide\, Adelaide\, SA
CATEGORIES:Leadership for Clinicians
END:VEVENT
BEGIN:VEVENT
DTSTART;VALUE=DATE:20200305
DTEND;VALUE=DATE:20200308
DTSTAMP:20200226T111127
CREATED:20200221T043607Z
LAST-MODIFIED:20200221T043607Z
UID:2615-1583366400-1583625599@racma.edu.au
SUMMARY:Leadership for Clinicians Module 1
DESCRIPTION:
URL:https://racma.edu.au/training-calendar/leadership-for-clinicians-module-1-2/
LOCATION:Sydney\, Sydney\, NSW
CATEGORIES:Leadership for Clinicians
END:VEVENT
BEGIN:VEVENT
DTSTART;VALUE=DATE:20200319
DTEND;VALUE=DATE:20200322
DTSTAMP:20200226T111127
CREATED:20200221T043644Z
LAST-MODIFIED:20200221T043840Z
UID:2617-1584576000-1584835199@racma.edu.au
SUMMARY:Leadership for Clinicians Module 1
DESCRIPTION:
URL:https://racma.edu.au/training-calendar/leadership-for-clinicians-module-1-3/
LOCATION:Wellington\, Wellington\, SA\, New Zealand
CATEGORIES:Leadership for Clinicians
END:VEVENT
BEGIN:VEVENT
DTSTART;VALUE=DATE:20200326
DTEND;VALUE=DATE:20200329
DTSTAMP:20200226T111127
CREATED:20200221T043908Z
LAST-MODIFIED:20200221T044057Z
UID:2619-1585180800-1585439999@racma.edu.au
SUMMARY:Leadership for Clinicians Module 1
DESCRIPTION:
URL:https://racma.edu.au/training-calendar/leadership-for-clinicians-module-1-4/
LOCATION:Melbourne\, Melbourne\, VIC
CATEGORIES:Leadership for Clinicians
END:VEVENT
BEGIN:VEVENT
DTSTART;VALUE=DATE:20200501
DTEND;VALUE=DATE:20200503
DTSTAMP:20200226T111127
CREATED:20200221T044016Z
LAST-MODIFIED:20200221T044016Z
UID:2621-1588291200-1588463999@racma.edu.au
SUMMARY:Leadership for Clinicians Module 2
DESCRIPTION:
URL:https://racma.edu.au/training-calendar/leadership-for-clinicians-module-2/
LOCATION:Perth\, Perth\, WA\, Australia
CATEGORIES:Leadership for Clinicians
END:VEVENT
BEGIN:VEVENT
DTSTART;VALUE=DATE:20200514
DTEND;VALUE=DATE:20200517
DTSTAMP:20200226T111127
CREATED:20200221T044223Z
LAST-MODIFIED:20200221T044223Z
UID:2623-1589414400-1589673599@racma.edu.au
SUMMARY:Leadership for Clinicians Module 1
DESCRIPTION:
URL:https://racma.edu.au/training-calendar/leadership-for-clinicians-module-1-5/
LOCATION:Brisbane\, Brisbane\, QLD\, Australia
CATEGORIES:Leadership for Clinicians
END:VEVENT
BEGIN:VEVENT
DTSTART;VALUE=DATE:20200529
DTEND;VALUE=DATE:20200531
DTSTAMP:20200226T111127
CREATED:20200221T044304Z
LAST-MODIFIED:20200221T044304Z
UID:2625-1590710400-1590883199@racma.edu.au
SUMMARY:Leadership for Clinicians Module 2
DESCRIPTION:
URL:https://racma.edu.au/training-calendar/leadership-for-clinicians-module-2-2/
LOCATION:Adelaide\, Adelaide\, SA
CATEGORIES:Leadership for Clinicians
END:VEVENT
BEGIN:VEVENT
DTSTART;VALUE=DATE:20200619
DTEND;VALUE=DATE:20200621
DTSTAMP:20200226T111127
CREATED:20200221T044349Z
LAST-MODIFIED:20200221T044349Z
UID:2627-1592524800-1592697599@racma.edu.au
SUMMARY:Leadership for Clinicians Module 2
DESCRIPTION:
URL:https://racma.edu.au/training-calendar/leadership-for-clinicians-module-2-3/
LOCATION:Melbourne\, Melbourne\, VIC
CATEGORIES:Leadership for Clinicians
END:VEVENT
BEGIN:VEVENT
DTSTART;VALUE=DATE:20200626
DTEND;VALUE=DATE:20200628
DTSTAMP:20200226T111127
CREATED:20200221T044458Z
LAST-MODIFIED:20200221T044458Z
UID:2629-1593129600-1593302399@racma.edu.au
SUMMARY:Leadership for Clinicians Module 2
DESCRIPTION:
URL:https://racma.edu.au/training-calendar/leadership-for-clinicians-module-2-4/
LOCATION:Wellington\, Wellington\, SA\, New Zealand
CATEGORIES:Leadership for Clinicians
END:VEVENT
BEGIN:VEVENT
DTSTART;VALUE=DATE:20200731
DTEND;VALUE=DATE:20200802
DTSTAMP:20200226T111127
CREATED:20200221T044602Z
LAST-MODIFIED:20200221T044602Z
UID:2631-1596153600-1596326399@racma.edu.au
SUMMARY:Leadership for Clinicians Module 2
DESCRIPTION:
URL:https://racma.edu.au/training-calendar/leadership-for-clinicians-module-2-5/
LOCATION:Sydney\, Sydney\, NSW
CATEGORIES:Leadership for Clinicians
END:VEVENT
BEGIN:VEVENT
DTSTART;VALUE=DATE:20200807
DTEND;VALUE=DATE:20200809
DTSTAMP:20200226T111127
CREATED:20200221T044959Z
LAST-MODIFIED:20200221T044959Z
UID:2633-1596758400-1596931199@racma.edu.au
SUMMARY:Leadership for Clinicians Module 2
DESCRIPTION:
URL:https://racma.edu.au/training-calendar/leadership-for-clinicians-module-2-6/
LOCATION:Brisbane\, Brisbane\, QLD\, Australia
CATEGORIES:Leadership for Clinicians
END:VEVENT
BEGIN:VEVENT
DTSTART;VALUE=DATE:20200820
DTEND;VALUE=DATE:20200823
DTSTAMP:20200226T111127
CREATED:20200221T045048Z
LAST-MODIFIED:20200221T050155Z
UID:2635-1597881600-1598140799@racma.edu.au
SUMMARY:Leadership for Clinicians Module 3
DESCRIPTION:
URL:https://racma.edu.au/training-calendar/leadership-for-clinicians-module-3/
LOCATION:Perth\, Perth\, WA\, Australia
CATEGORIES:Leadership for Clinicians
END:VEVENT
BEGIN:VEVENT
DTSTART;VALUE=DATE:20200903
DTEND;VALUE=DATE:20200906
DTSTAMP:20200226T111127
CREATED:20200221T045300Z
LAST-MODIFIED:20200221T045300Z
UID:2637-1599091200-1599350399@racma.edu.au
SUMMARY:Leadership for Clinicians Module 3
DESCRIPTION:
URL:https://racma.edu.au/training-calendar/leadership-for-clinicians-module-3-2/
LOCATION:Adelaide\, Adelaide\, SA
CATEGORIES:Leadership for Clinicians
END:VEVENT
BEGIN:VEVENT
DTSTART;VALUE=DATE:20200903
DTEND;VALUE=DATE:20200906
DTSTAMP:20200226T111127
CREATED:20200221T045835Z
LAST-MODIFIED:20200221T045835Z
UID:2639-1599091200-1599350399@racma.edu.au
SUMMARY:Leadership for Clinicians Module 3
DESCRIPTION:
URL:https://racma.edu.au/training-calendar/leadership-for-clinicians-module-3-3/
LOCATION:Adelaide\, Adelaide\, SA
CATEGORIES:Leadership for Clinicians
END:VEVENT
BEGIN:VEVENT
DTSTART;VALUE=DATE:20201008
DTEND;VALUE=DATE:20201011
DTSTAMP:20200226T111127
CREATED:20200221T045902Z
LAST-MODIFIED:20200221T045902Z
UID:2641-1602115200-1602374399@racma.edu.au
SUMMARY:Leadership for Clinicians Module 3
DESCRIPTION:
URL:https://racma.edu.au/training-calendar/leadership-for-clinicians-module-3-4/
LOCATION:Melbourne\, Melbourne\, VIC
CATEGORIES:Leadership for Clinicians
END:VEVENT
BEGIN:VEVENT
DTSTART;VALUE=DATE:20201015
DTEND;VALUE=DATE:20201018
DTSTAMP:20200226T111127
CREATED:20200221T045950Z
LAST-MODIFIED:20200221T050220Z
UID:2643-1602720000-1602979199@racma.edu.au
SUMMARY:Leadership for Clinicians Module 3
DESCRIPTION:
URL:https://racma.edu.au/training-calendar/leadership-for-clinicians-module-3-5/
LOCATION:Wellington\, Wellington\, SA\, New Zealand
CATEGORIES:Leadership for Clinicians
END:VEVENT
BEGIN:VEVENT
DTSTART;VALUE=DATE:20201029
DTEND;VALUE=DATE:20201101
DTSTAMP:20200226T111127
CREATED:20200221T050016Z
LAST-MODIFIED:20200221T050016Z
UID:2645-1603929600-1604188799@racma.edu.au
SUMMARY:Leadership for Clinicians Module 3
DESCRIPTION:
URL:https://racma.edu.au/training-calendar/leadership-for-clinicians-module-3-6/
LOCATION:Brisbane\, Brisbane\, QLD\, Australia
CATEGORIES:Leadership for Clinicians
END:VEVENT
BEGIN:VEVENT
DTSTART;VALUE=DATE:20201112
DTEND;VALUE=DATE:20201115
DTSTAMP:20200226T111127
CREATED:20200221T050049Z
LAST-MODIFIED:20200221T050049Z
UID:2647-1605139200-1605398399@racma.edu.au
SUMMARY:Leadership for Clinicians Module 3
DESCRIPTION:
URL:https://racma.edu.au/training-calendar/leadership-for-clinicians-module-3-7/
LOCATION:Sydney\, Sydney\, NSW
CATEGORIES:Leadership for Clinicians
END:VEVENT
END:VCALENDAR